BEGIN:VCALENDAR
VERSION:2.0
PRODID:-//Academy of Health Sciences - ECPv6.15.19//NONSGML v1.0//EN
CALSCALE:GREGORIAN
METHOD:PUBLISH
X-WR-CALNAME:Academy of Health Sciences
X-ORIGINAL-URL:https://ahscharter.org
X-WR-CALDESC:Events for Academy of Health Sciences
REFRESH-INTERVAL;VALUE=DURATION:PT1H
X-Robots-Tag:noindex
X-PUBLISHED-TTL:PT1H
BEGIN:VTIMEZONE
TZID:America/New_York
BEGIN:DAYLIGHT
TZOFFSETFROM:-0500
TZOFFSETTO:-0400
TZNAME:EDT
DTSTART:20240310T070000
END:DAYLIGHT
BEGIN:STANDARD
TZOFFSETFROM:-0400
TZOFFSETTO:-0500
TZNAME:EST
DTSTART:20241103T060000
END:STANDARD
BEGIN:DAYLIGHT
TZOFFSETFROM:-0500
TZOFFSETTO:-0400
TZNAME:EDT
DTSTART:20250309T070000
END:DAYLIGHT
BEGIN:STANDARD
TZOFFSETFROM:-0400
TZOFFSETTO:-0500
TZNAME:EST
DTSTART:20251102T060000
END:STANDARD
BEGIN:DAYLIGHT
TZOFFSETFROM:-0500
TZOFFSETTO:-0400
TZNAME:EDT
DTSTART:20260308T070000
END:DAYLIGHT
BEGIN:STANDARD
TZOFFSETFROM:-0400
TZOFFSETTO:-0500
TZNAME:EST
DTSTART:20261101T060000
END:STANDARD
END:VTIMEZONE
BEGIN:VEVENT
DTSTART;TZID=America/New_York:20250207T084500
DTEND;TZID=America/New_York:20250207T130000
DTSTAMP:20260420T074233
CREATED:20240705T151641Z
LAST-MODIFIED:20240705T151641Z
UID:2971-1738917900-1738933200@ahscharter.org
SUMMARY:Half Day - 1pm Dismissal for Students
DESCRIPTION:
URL:https://ahscharter.org/event/half-day-1pm-dismissal-for-students-20/
LOCATION:Academy of Health Sciences Charter School\, 1151 Ridgeway Avenue\, Rochester\, NY\, 14615\, United States
END:VEVENT
BEGIN:VEVENT
DTSTART;TZID=America/New_York:20250214T084500
DTEND;TZID=America/New_York:20250214T130000
DTSTAMP:20260420T074233
CREATED:20240705T151712Z
LAST-MODIFIED:20240705T151712Z
UID:2973-1739522700-1739538000@ahscharter.org
SUMMARY:Half Day - 1pm Dismissal for Students
DESCRIPTION:
URL:https://ahscharter.org/event/half-day-1pm-dismissal-for-students-21/
LOCATION:Academy of Health Sciences Charter School\, 1151 Ridgeway Avenue\, Rochester\, NY\, 14615\, United States
END:VEVENT
BEGIN:VEVENT
DTSTART;VALUE=DATE:20250217
DTEND;VALUE=DATE:20250218
DTSTAMP:20260420T074233
CREATED:20240705T151834Z
LAST-MODIFIED:20240705T151834Z
UID:2977-1739750400-1739836799@ahscharter.org
SUMMARY:President's Day (School Closed for All)
DESCRIPTION:
URL:https://ahscharter.org/event/presidents-day-school-closed-for-all-3/
LOCATION:Academy of Health Sciences Charter School\, 1151 Ridgeway Avenue\, Rochester\, NY\, 14615\, United States
END:VEVENT
BEGIN:VEVENT
DTSTART;VALUE=DATE:20250218
DTEND;VALUE=DATE:20250222
DTSTAMP:20260420T074233
CREATED:20240705T151914Z
LAST-MODIFIED:20240705T151914Z
UID:2979-1739836800-1740182399@ahscharter.org
SUMMARY:February Break (School Closed for All)
DESCRIPTION:
URL:https://ahscharter.org/event/february-break-school-closed-for-all-3/
LOCATION:Academy of Health Sciences Charter School\, 1151 Ridgeway Avenue\, Rochester\, NY\, 14615\, United States
END:VEVENT
BEGIN:VEVENT
DTSTART;TZID=America/New_York:20250221T130000
DTEND;TZID=America/New_York:20250221T140000
DTSTAMP:20260420T074233
CREATED:20250203T183320Z
LAST-MODIFIED:20250203T183320Z
UID:3256-1740142800-1740146400@ahscharter.org
SUMMARY:AHS Open House and School Tour
DESCRIPTION:Join Us for a Winter Open House and School Tour! \n???? February 21st: 1:00 PM – 2:00 PM \n???? February 22nd: 11:00 AM – 12:00 PM \nCome and explore what Academy of Health Sciences Charter School has to offer! \nDuring our Open House\, you will: \n✔️ Learn about the Charter School selection process \n✔️ Meet our Principal and dedicated staff \n✔️ Tour the AHS campus \n✔️ Discover the amazing opportunities awaiting your scholar! \nWe can’t wait to welcome you and your family! \nFor more information\, visit AHScharter.org or contact us at 585.254.1003 directly. \n 
URL:https://ahscharter.org/event/ahs-open-house-and-school-tour/
LOCATION:Academy of Health Sciences Charter School\, 1151 Ridgeway Avenue\, Rochester\, NY\, 14615\, United States
END:VEVENT
BEGIN:VEVENT
DTSTART;TZID=America/New_York:20250224T173000
DTEND;TZID=America/New_York:20250224T193000
DTSTAMP:20260420T074233
CREATED:20240708T140510Z
LAST-MODIFIED:20240708T140510Z
UID:3040-1740418200-1740425400@ahscharter.org
SUMMARY:AHS Board of Trustees Meeting
DESCRIPTION:
URL:https://ahscharter.org/event/ahs-board-of-trustees-meeting-20/
LOCATION:Academy of Health Sciences Charter School\, 1151 Ridgeway Avenue\, Rochester\, NY\, 14615\, United States
END:VEVENT
BEGIN:VEVENT
DTSTART;TZID=America/New_York:20250228T084500
DTEND;TZID=America/New_York:20250228T130000
DTSTAMP:20260420T074233
CREATED:20240705T151756Z
LAST-MODIFIED:20240705T151756Z
UID:2975-1740732300-1740747600@ahscharter.org
SUMMARY:Half Day - 1pm Dismissal for Students
DESCRIPTION:
URL:https://ahscharter.org/event/half-day-1pm-dismissal-for-students-22/
LOCATION:Academy of Health Sciences Charter School\, 1151 Ridgeway Avenue\, Rochester\, NY\, 14615\, United States
END:VEVENT
END:VCALENDAR